BEGIN:VCALENDAR
VERSION:2.0
PRODID:-//Mūsų Kretinga - ECPv6.15.20//NONSGML v1.0//EN
CALSCALE:GREGORIAN
METHOD:PUBLISH
X-WR-CALNAME:Mūsų Kretinga
X-ORIGINAL-URL:https://musukretinga.lt
X-WR-CALDESC:Events for Mūsų Kretinga
REFRESH-INTERVAL;VALUE=DURATION:PT1H
X-Robots-Tag:noindex
X-PUBLISHED-TTL:PT1H
BEGIN:VTIMEZONE
TZID:Europe/Vilnius
BEGIN:DAYLIGHT
TZOFFSETFROM:+0200
TZOFFSETTO:+0300
TZNAME:EEST
DTSTART:20240331T010000
END:DAYLIGHT
BEGIN:STANDARD
TZOFFSETFROM:+0300
TZOFFSETTO:+0200
TZNAME:EET
DTSTART:20241027T010000
END:STANDARD
BEGIN:DAYLIGHT
TZOFFSETFROM:+0200
TZOFFSETTO:+0300
TZNAME:EEST
DTSTART:20250330T010000
END:DAYLIGHT
BEGIN:STANDARD
TZOFFSETFROM:+0300
TZOFFSETTO:+0200
TZNAME:EET
DTSTART:20251026T010000
END:STANDARD
BEGIN:DAYLIGHT
TZOFFSETFROM:+0200
TZOFFSETTO:+0300
TZNAME:EEST
DTSTART:20260329T010000
END:DAYLIGHT
BEGIN:STANDARD
TZOFFSETFROM:+0300
TZOFFSETTO:+0200
TZNAME:EET
DTSTART:20261025T010000
END:STANDARD
END:VTIMEZONE
BEGIN:VEVENT
DTSTART;TZID=Europe/Vilnius:20250422T190000
DTEND;TZID=Europe/Vilnius:20250422T210000
DTSTAMP:20260419T160627
CREATED:20250330T111101Z
LAST-MODIFIED:20250330T111102Z
UID:20070-1745348400-1745355600@musukretinga.lt
SUMMARY:„Auksinis protas“: S23E15
DESCRIPTION:Kiekvieną antradienį 19 val. bibliotekoje renkasi „Auksinio proto“ gerbėjai. Intelektualus žaidimas „Auksinis protas“ komandas kviečia į 23-tojo (žiemos–pavasario) sezono gyvuosius žaidimus\, kurie tuo pat metu vyks įvairiuose Lietuvos miestuose ir net užsienyje į komandas susibūrusių lietuvių. Vyks 16 sezono žaidimų nuo 2025 m. sausio 14 d. iki 2025 m. balandžio 29 d. \n„Auksinis protas“ gyvi žaidimai vyksta sezonais: žiemos–pavasario sezonas vyksta nuo sausio iki gegužės\, o rudens – nuo rugsėjo iki gruodžio. Prisijungti galima bet kurio sezono metu ir žaisti galima tiek\, kiek norisi komandai. \n— \n„Auksinio proto“ žaidimų koordinatorė Kretingoje – Birutė Naujokaitienė. Informacija ir komandų bei pavienių asmenų registracija el. p. birute.naujokaitiene@kretvb.lt arba tel. (+370 445) 72 131. \nRenginio metu gali būti fotografuojama ir filmuojama.\nSVARBU. Jei nepageidaujate būti fotografuojami ir (ar) filmuojami arba nesutinkate su nuotraukų ir (ar) vaizdo medžiagos su Jumis viešinimu\, prašome apie tai informuoti renginio organizatorių arba fotografą.
URL:https://musukretinga.lt/renginys/auksinis-protas-s23e15-2/
LOCATION:Kretingos rajono savivaldybės M. Valančiaus viešoji biblioteka\, J. K. Chodkevičiaus g. 1B\, Kretinga\, 97130\, Lietuva
CATEGORIES:Kita
ATTACH;FMTTYPE=image/jpeg:https://musukretinga.lt/wp-content/uploads/2025/03/auksinis-protas-1.jpg
END:VEVENT
END:VCALENDAR